BEGIN:VCALENDAR
VERSION:2.0
PRODID:-//Uptown &amp; Boogie Healthy Project Inc. - ECPv6.15.20//NONSGML v1.0//EN
CALSCALE:GREGORIAN
METHOD:PUBLISH
X-ORIGINAL-URL:https://ubhealthyproject.org
X-WR-CALDESC:Events for Uptown &amp; Boogie Healthy Project Inc.
REFRESH-INTERVAL;VALUE=DURATION:PT1H
X-Robots-Tag:noindex
X-PUBLISHED-TTL:PT1H
BEGIN:VTIMEZONE
TZID:America/New_York
BEGIN:DAYLIGHT
TZOFFSETFROM:-0500
TZOFFSETTO:-0400
TZNAME:EDT
DTSTART:20250309T070000
END:DAYLIGHT
BEGIN:STANDARD
TZOFFSETFROM:-0400
TZOFFSETTO:-0500
TZNAME:EST
DTSTART:20251102T060000
END:STANDARD
BEGIN:DAYLIGHT
TZOFFSETFROM:-0500
TZOFFSETTO:-0400
TZNAME:EDT
DTSTART:20260308T070000
END:DAYLIGHT
BEGIN:STANDARD
TZOFFSETFROM:-0400
TZOFFSETTO:-0500
TZNAME:EST
DTSTART:20261101T060000
END:STANDARD
BEGIN:DAYLIGHT
TZOFFSETFROM:-0500
TZOFFSETTO:-0400
TZNAME:EDT
DTSTART:20270314T070000
END:DAYLIGHT
BEGIN:STANDARD
TZOFFSETFROM:-0400
TZOFFSETTO:-0500
TZNAME:EST
DTSTART:20271107T060000
END:STANDARD
END:VTIMEZONE
BEGIN:VEVENT
DTSTART;TZID=America/New_York:20260515T080000
DTEND;TZID=America/New_York:20260515T110000
DTSTAMP:20260422T181130
CREATED:20260408T013428Z
LAST-MODIFIED:20260408T013638Z
UID:3142-1778832000-1778842800@ubhealthyproject.org
SUMMARY:2026 Bike to Work
DESCRIPTION:National Bike to Work Day\, is to encourage those who are taking the opportunity to expand their comfort zone in their reliance on alternate transportation can encourage long term healthier choices – the person who thinks they are participating in a one day event\, will find\, with the encouragement\, that biking is an activity they can sustain.\nSwing by for food\, snacks\, beverages\, and good vibes to fuel your ride and connect with fellow cyclists.\nLocation: 330 St Nicholas Ave\, New York NY 10027\nRegister: https://2026biketowork.eventbrite.com\nAre you a bike enthusiast and want to volunteer? Email ubhp@ubhealthyproject.org
URL:https://ubhealthyproject.org/event/2026-bike-to-work/
LOCATION:St Nicholas Miracle Garden\, 330 St Nicholas Ave\, New York\, 10027\, United States
CATEGORIES:Community Garden,Special Events
ATTACH;FMTTYPE=image/png:https://ubhealthyproject.org/wp-content/uploads/2026/04/2025-Bike-to-Work-Day.png
ORGANIZER;CN="Uptown Boogie Healthy Project":MAILTO:ugf@ubhealthyproject.org
END:VEVENT
END:VCALENDAR