BEGIN:VCALENDAR
VERSION:2.0
PRODID:-//Uptown &amp; Boogie Healthy Project Inc. - ECPv6.15.20//NONSGML v1.0//EN
CALSCALE:GREGORIAN
METHOD:PUBLISH
X-ORIGINAL-URL:https://ubhealthyproject.org
X-WR-CALDESC:Events for Uptown &amp; Boogie Healthy Project Inc.
REFRESH-INTERVAL;VALUE=DURATION:PT1H
X-Robots-Tag:noindex
X-PUBLISHED-TTL:PT1H
BEGIN:VTIMEZONE
TZID:America/New_York
BEGIN:DAYLIGHT
TZOFFSETFROM:-0500
TZOFFSETTO:-0400
TZNAME:EDT
DTSTART:20240310T070000
END:DAYLIGHT
BEGIN:STANDARD
TZOFFSETFROM:-0400
TZOFFSETTO:-0500
TZNAME:EST
DTSTART:20241103T060000
END:STANDARD
BEGIN:DAYLIGHT
TZOFFSETFROM:-0500
TZOFFSETTO:-0400
TZNAME:EDT
DTSTART:20250309T070000
END:DAYLIGHT
BEGIN:STANDARD
TZOFFSETFROM:-0400
TZOFFSETTO:-0500
TZNAME:EST
DTSTART:20251102T060000
END:STANDARD
BEGIN:DAYLIGHT
TZOFFSETFROM:-0500
TZOFFSETTO:-0400
TZNAME:EDT
DTSTART:20260308T070000
END:DAYLIGHT
BEGIN:STANDARD
TZOFFSETFROM:-0400
TZOFFSETTO:-0500
TZNAME:EST
DTSTART:20261101T060000
END:STANDARD
END:VTIMEZONE
BEGIN:VEVENT
DTSTART;TZID=America/New_York:20250606T130000
DTEND;TZID=America/New_York:20250606T143000
DTSTAMP:20260423T033550
CREATED:20250520T145725Z
LAST-MODIFIED:20250520T150509Z
UID:2090-1749214800-1749220200@ubhealthyproject.org
SUMMARY:From Dirt to Digital: Tech Tools to Grow Your Farm Stand
DESCRIPTION:Judith Desire \, Uptown & Boogie Healthy Project \nThis hands-on workshop helps gardeners\, urban farmers\, and community garden organizers improve their operations and outreach with digital tools. Tech-savvy garden members and those familiar with these tools but looking for advanced features will benefit the most. Participants will learn to use Slack for team communication\, Google Workspace for collaboration\, Canva for design\, and Mailchimp for marketing more effectively. \nAddress: CUNY Graduate Center – 365 5th Avenue\, New York\, New York 10016 \nRegistration Today!
URL:https://ubhealthyproject.org/event/from-dirt-to-digital-tech-tools-to-grow-your-farm-stand/
LOCATION:CUNY Graduate Center\, 365 5th Avenue\, New York\, NY\, 10016\, United States
CATEGORIES:Community Garden
ATTACH;FMTTYPE=image/png:https://ubhealthyproject.org/wp-content/uploads/2025/05/GrowTogether2025_Flyer_June5-8.png
ORGANIZER;CN="Uptown Boogie Healthy Project":MAILTO:ugf@ubhealthyproject.org
END:VEVENT
BEGIN:VEVENT
DTSTART;TZID=America/New_York:20250612T160000
DTEND;TZID=America/New_York:20251123T190000
DTSTAMP:20260423T033550
CREATED:20250210T042746Z
LAST-MODIFIED:20250210T043413Z
UID:1311-1749744000-1763924400@ubhealthyproject.org
SUMMARY:Uptown Good Food Farm Stand and CSA
DESCRIPTION:We’re so glad you’re interested in joining our CSA and farm stand program! Our program is designed to help you get fresh\, locally-sourced produce straight from the farmers to your table. We strive to provide our members with the freshest\, most nutritious produce available. Follow us @uptowngoodfood to learn more about our upcoming events\, community supported agriculture and vendor opportunities in Harlem\, New York from June 12 to October 30.\nLearn more: uptowngoodfood.com
URL:https://ubhealthyproject.org/event/uptown-good-food-farm-stand-and-csa/
LOCATION:St Nicholas Miracle Garden\, 330 St Nicholas Ave\, New York\, 10027\, United States
CATEGORIES:Community Supported Agriculture,Farm Stand
ATTACH;FMTTYPE=image/png:https://ubhealthyproject.org/wp-content/uploads/2025/02/Uptown-Good-Food-Farm-Stand-and-CSA.png
ORGANIZER;CN="Uptown Boogie Healthy Project":MAILTO:ugf@ubhealthyproject.org
END:VEVENT
BEGIN:VEVENT
DTSTART;TZID=America/New_York:20250614T090000
DTEND;TZID=America/New_York:20251122T150000
DTSTAMP:20260423T033550
CREATED:20241016T012129Z
LAST-MODIFIED:20250210T033142Z
UID:912-1749891600-1763823600@ubhealthyproject.org
SUMMARY:Uptown Good Food Farmers Market
DESCRIPTION:Exciting News! Introducing Uptown Good Food Farmers Market\, your one-stop destination for locally grown farm-fresh food\, delectable baked goods\, tantalizing condiments\, and mouthwatering desserts. Join us on Saturdays\, June 14 – November 22\, from 9am-3pm to experience our diverse selection’s vibrant flavors and exceptional quality. Support local farmers and indulge in Harlem’s agricultural community’s best. \nWe accept SNAP/EBT\, FMNP\, Health Bucks\, FreshConnect & OTC Network \nGreen Tree Textiles is offer clothing drop-off at the market from 9am – 3pm. Recycling clothes is crucial in reducing textile waste and its environmental impact. \nLocation: St Nicholas Park\, St Nicholas Ave St Nicholas Ave &\, W 137th St\, New York\, NY 10030 \nFollow us @uptowngoodfood to learn more about our upcoming events\, community supported agriculture and vendor opportunities in Harlem\, New York from June to November. \nLearn more: uptowngoodfood.com
URL:https://ubhealthyproject.org/event/uptown-good-food-farmers-market/
LOCATION:St Nicholas Park\, St Nicholas Ave & W137th Street\, New York\, NY\, 10030\, United States
CATEGORIES:Farmers Market
ATTACH;FMTTYPE=image/png:https://ubhealthyproject.org/wp-content/uploads/2024/10/Uptown-Good-Food-Harlem-1-1.png
ORGANIZER;CN="Uptown Boogie Healthy Project":MAILTO:ugf@ubhealthyproject.org
END:VEVENT
BEGIN:VEVENT
DTSTART;TZID=America/New_York:20250614T140000
DTEND;TZID=America/New_York:20250614T200000
DTSTAMP:20260423T033550
CREATED:20250526T182316Z
LAST-MODIFIED:20250526T182316Z
UID:2110-1749909600-1749931200@ubhealthyproject.org
SUMMARY:Open Garden Day: Agri-Tech\, Music & Greenhouse Magic
DESCRIPTION:Our special event will unveil our latest beautification projects\, including a greenhouse and mural.\nHighlights Include:\n🎤 Architect Talk – Hear directly from the talented architects and student designers behind our year-round greenhouse. Learn about their design inspiration\, sustainable building practices\, and how they brought this vision to life alongside volunteers and local tradespeople. \n🎶 Live Music—Enjoy soulful live performances by local musicians throughout the day\, which bring rhythm and joy to our blooming space. \n🌻 Garden Tours & Family Activities—Explore the garden\, meet the team\, and participate in kid-friendly arts and crafts\, composting demos\, and seed planting. \n🍓 Farmers Market—Shop fresh produce and support local artisans at our seasonal Uptown Good Food Farmers Market on St Nicholas Ave and W137th Street from 9 am to 3 pm.\nCelebrate community\, creativity\, and the power of green spaces. All ages welcome—bring your family\, friends\, and love to the garden!\nLocation: St Nicholas Miracle Garden\nTime: 2 pm to 8 pm\nEntry: Free and open to the public\nFollow us on @stnicksgarden for updates. We can’t wait to grow with you! 🌱
URL:https://ubhealthyproject.org/event/open-garden-day-agri-tech-music-greenhouse-magic/
LOCATION:St Nicholas Miracle Garden\, 330 St Nicholas Ave\, New York\, 10027\, United States
CATEGORIES:Community Garden
ATTACH;FMTTYPE=image/png:https://ubhealthyproject.org/wp-content/uploads/2025/05/greenhouseraisedbed.png
END:VEVENT
BEGIN:VEVENT
DTSTART;TZID=America/New_York:20250622T090000
DTEND;TZID=America/New_York:20251123T160000
DTSTAMP:20260423T033550
CREATED:20241016T013546Z
LAST-MODIFIED:20250210T043318Z
UID:919-1750582800-1763913600@ubhealthyproject.org
SUMMARY:Bronx Park East Farmers Market and CSA
DESCRIPTION:Join us on Sunday\, June 22 – November 23\, from 9am-4pm at Bronx Park\, a vibrant and bustling farmers market filled with fresh and delicious produce. There are a variety of vendors selling fruits\, vegetables\, herbs\, flowers\, and other goods. The atmosphere is friendly and welcoming\, and the prices are very reasonable. Customers can also find locally-made items such as honey\, jams\, baked goods and more. \nRecycling clothes is crucial in reducing textile waste and its environmental impact. Green Tree Textiles is offer clothing drop-off at the market from 9am – 4pm. \nWe accept: SNAP/EBT\, FMNP\, Healthy Bucks\, FreshConnect & OTC Network \nWe are proud to be able to serve the Pelham Parkway community and help make sure that everyone has access to fresh\, local produce. \nLocation: Bronx Park / Brady Playground\, 2045 Bronx Park E\, Bronx\, NY 10462 \nLearn More: bxpemarket.com
URL:https://ubhealthyproject.org/event/bronx-park-east-farmers-market/
LOCATION:Bronx Park\, 2045 Bronx Park East\, Bronx\, NY\, 10462\, United States
CATEGORIES:Community Supported Agriculture,Farmers Market
ATTACH;FMTTYPE=image/png:https://ubhealthyproject.org/wp-content/uploads/2024/10/Bronx-Park-East-Farmers-Market-and-CSA.png
ORGANIZER;CN="Uptown Boogie Healthy Project":MAILTO:ugf@ubhealthyproject.org
END:VEVENT
END:VCALENDAR