BEGIN:VCALENDAR
VERSION:2.0
PRODID:-//Uptown &amp; Boogie Healthy Project Inc. - ECPv6.15.20//NONSGML v1.0//EN
CALSCALE:GREGORIAN
METHOD:PUBLISH
X-WR-CALNAME:Uptown &amp; Boogie Healthy Project Inc.
X-ORIGINAL-URL:https://ubhealthyproject.org
X-WR-CALDESC:Events for Uptown &amp; Boogie Healthy Project Inc.
REFRESH-INTERVAL;VALUE=DURATION:PT1H
X-Robots-Tag:noindex
X-PUBLISHED-TTL:PT1H
BEGIN:VTIMEZONE
TZID:America/New_York
BEGIN:DAYLIGHT
TZOFFSETFROM:-0500
TZOFFSETTO:-0400
TZNAME:EDT
DTSTART:20240310T070000
END:DAYLIGHT
BEGIN:STANDARD
TZOFFSETFROM:-0400
TZOFFSETTO:-0500
TZNAME:EST
DTSTART:20241103T060000
END:STANDARD
BEGIN:DAYLIGHT
TZOFFSETFROM:-0500
TZOFFSETTO:-0400
TZNAME:EDT
DTSTART:20250309T070000
END:DAYLIGHT
BEGIN:STANDARD
TZOFFSETFROM:-0400
TZOFFSETTO:-0500
TZNAME:EST
DTSTART:20251102T060000
END:STANDARD
BEGIN:DAYLIGHT
TZOFFSETFROM:-0500
TZOFFSETTO:-0400
TZNAME:EDT
DTSTART:20260308T070000
END:DAYLIGHT
BEGIN:STANDARD
TZOFFSETFROM:-0400
TZOFFSETTO:-0500
TZNAME:EST
DTSTART:20261101T060000
END:STANDARD
BEGIN:DAYLIGHT
TZOFFSETFROM:-0500
TZOFFSETTO:-0400
TZNAME:EDT
DTSTART:20270314T070000
END:DAYLIGHT
BEGIN:STANDARD
TZOFFSETFROM:-0400
TZOFFSETTO:-0500
TZNAME:EST
DTSTART:20271107T060000
END:STANDARD
END:VTIMEZONE
BEGIN:VEVENT
DTSTART;TZID=America/New_York:20260418T100000
DTEND;TZID=America/New_York:20260418T120000
DTSTAMP:20260422T181346
CREATED:20260403T003710Z
LAST-MODIFIED:20260403T003710Z
UID:2950-1776506400-1776513600@ubhealthyproject.org
SUMMARY:Seedling & Compost Giveaway
DESCRIPTION:We’re hosting a new event\, and we’d love to see you there. Join us for Seedling & Compost Giveaway\, April 18\, 2026 at 10:00 AM.\nThe seedlings were grown right in the garden’s own greenhouse\, and the Lower East Side Ecology Center finished compost (packaged in one pound bags) is made locally in NYC from New Yorker’s food scraps. All thumbs are welcome! Supplies are limited and will be distributed on a first-come\, first-served basis.\nRegister soon because space is limited.\nWe hope you’re able to join us!
URL:https://ubhealthyproject.org/event/seedling-compost-giveaway/
LOCATION:St Nicholas Miracle Garden\, 330 St Nicholas Ave\, New York\, 10027\, United States
CATEGORIES:Community Garden
ATTACH;FMTTYPE=image/jpeg:https://ubhealthyproject.org/wp-content/uploads/2026/04/0418StNicholasMiracle_EarthMonth26-scaled.jpg
END:VEVENT
BEGIN:VEVENT
DTSTART;TZID=America/New_York:20250816T180000
DTEND;TZID=America/New_York:20250816T210000
DTSTAMP:20260422T181346
CREATED:20250709T141814Z
LAST-MODIFIED:20250709T145037Z
UID:2128-1755367200-1755378000@ubhealthyproject.org
SUMMARY:Live In The Garden: SNMG
DESCRIPTION:NEW YORK CITY A @forwardthinking_ns has linked up to present Live At The Garden\, an all-ages live music and urban garden experience celebrating Harlem Week and the independent music scene.\nJoin us on Saturday\, August 16\, from 6 – 9PM\nIn Harlem at @stnicksgarden for a performance lineup including\n@wheresdaloren\, @whxsday\, @jercshore\, @arkadiuszthelover\, @preciousjewlism\, @Joeybricks_\, with\n@danielrossworldwide returning as host.\nWe’ll have a grill service\, special guests\, and much more. \nRSVP at the link in bio to attend\nSaturday\, August 16th\, from 6 – 9 PM\n330 St. Nicholas Ave\nNew York\, NY 10027
URL:https://ubhealthyproject.org/event/live-in-the-garden/
LOCATION:St Nicholas Miracle Garden\, 330 St Nicholas Ave\, New York\, 10027\, United States
CATEGORIES:Community Garden
ATTACH;FMTTYPE=image/jpeg:https://ubhealthyproject.org/wp-content/uploads/2025/07/FTL-August-16-25-V2.jpeg
ORGANIZER;CN="Uptown Boogie Healthy Project":MAILTO:ugf@ubhealthyproject.org
END:VEVENT
BEGIN:VEVENT
DTSTART;TZID=America/New_York:20250614T140000
DTEND;TZID=America/New_York:20250614T200000
DTSTAMP:20260422T181346
CREATED:20250526T182316Z
LAST-MODIFIED:20250526T182316Z
UID:2110-1749909600-1749931200@ubhealthyproject.org
SUMMARY:Open Garden Day: Agri-Tech\, Music & Greenhouse Magic
DESCRIPTION:Our special event will unveil our latest beautification projects\, including a greenhouse and mural.\nHighlights Include:\n🎤 Architect Talk – Hear directly from the talented architects and student designers behind our year-round greenhouse. Learn about their design inspiration\, sustainable building practices\, and how they brought this vision to life alongside volunteers and local tradespeople. \n🎶 Live Music—Enjoy soulful live performances by local musicians throughout the day\, which bring rhythm and joy to our blooming space. \n🌻 Garden Tours & Family Activities—Explore the garden\, meet the team\, and participate in kid-friendly arts and crafts\, composting demos\, and seed planting. \n🍓 Farmers Market—Shop fresh produce and support local artisans at our seasonal Uptown Good Food Farmers Market on St Nicholas Ave and W137th Street from 9 am to 3 pm.\nCelebrate community\, creativity\, and the power of green spaces. All ages welcome—bring your family\, friends\, and love to the garden!\nLocation: St Nicholas Miracle Garden\nTime: 2 pm to 8 pm\nEntry: Free and open to the public\nFollow us on @stnicksgarden for updates. We can’t wait to grow with you! 🌱
URL:https://ubhealthyproject.org/event/open-garden-day-agri-tech-music-greenhouse-magic/
LOCATION:St Nicholas Miracle Garden\, 330 St Nicholas Ave\, New York\, 10027\, United States
CATEGORIES:Community Garden
ATTACH;FMTTYPE=image/png:https://ubhealthyproject.org/wp-content/uploads/2025/05/greenhouseraisedbed.png
END:VEVENT
BEGIN:VEVENT
DTSTART;TZID=America/New_York:20250606T130000
DTEND;TZID=America/New_York:20250606T143000
DTSTAMP:20260422T181346
CREATED:20250520T145725Z
LAST-MODIFIED:20250520T150509Z
UID:2090-1749214800-1749220200@ubhealthyproject.org
SUMMARY:From Dirt to Digital: Tech Tools to Grow Your Farm Stand
DESCRIPTION:Judith Desire \, Uptown & Boogie Healthy Project \nThis hands-on workshop helps gardeners\, urban farmers\, and community garden organizers improve their operations and outreach with digital tools. Tech-savvy garden members and those familiar with these tools but looking for advanced features will benefit the most. Participants will learn to use Slack for team communication\, Google Workspace for collaboration\, Canva for design\, and Mailchimp for marketing more effectively. \nAddress: CUNY Graduate Center – 365 5th Avenue\, New York\, New York 10016 \nRegistration Today!
URL:https://ubhealthyproject.org/event/from-dirt-to-digital-tech-tools-to-grow-your-farm-stand/
LOCATION:CUNY Graduate Center\, 365 5th Avenue\, New York\, NY\, 10016\, United States
CATEGORIES:Community Garden
ATTACH;FMTTYPE=image/png:https://ubhealthyproject.org/wp-content/uploads/2025/05/GrowTogether2025_Flyer_June5-8.png
ORGANIZER;CN="Uptown Boogie Healthy Project":MAILTO:ugf@ubhealthyproject.org
END:VEVENT
BEGIN:VEVENT
DTSTART;TZID=America/New_York:20250422T100000
DTEND;TZID=America/New_York:20250422T150000
DTSTAMP:20260422T181346
CREATED:20250415T211655Z
LAST-MODIFIED:20250415T211655Z
UID:2026-1745316000-1745334000@ubhealthyproject.org
SUMMARY:SNMG Earth Day Celebration
DESCRIPTION:Celebrate Earth Day at the garden by joining us for a day of community service! We invite you to roll up your sleeves and learn how to repot seedlings and take home one to grow! This hands-on experience provides a unique opportunity to learn more about our garden space and how you can contribute to ongoing improvement while enjoying the fellowship of fellow volunteers. We have space for 6-10 participants to join us to cultivate a greener\, more sustainable open green space.\nWe welcome corporate groups and educational institutions to the event! \nPlease complete our Contact Form
URL:https://ubhealthyproject.org/event/snmg-earth-day-celebration/
LOCATION:St Nicholas Miracle Garden\, 330 St Nicholas Ave\, New York\, 10027\, United States
CATEGORIES:Community Garden
ATTACH;FMTTYPE=image/png:https://ubhealthyproject.org/wp-content/uploads/2025/04/Marketing-Social-Media-Post.png
ORGANIZER;CN="Uptown Boogie Healthy Project":MAILTO:ugf@ubhealthyproject.org
END:VEVENT
END:VCALENDAR