BEGIN:VCALENDAR
VERSION:2.0
PRODID:-//Uptown &amp; Boogie Healthy Project Inc. - ECPv6.15.20//NONSGML v1.0//EN
CALSCALE:GREGORIAN
METHOD:PUBLISH
X-ORIGINAL-URL:https://ubhealthyproject.org
X-WR-CALDESC:Events for Uptown &amp; Boogie Healthy Project Inc.
REFRESH-INTERVAL;VALUE=DURATION:PT1H
X-Robots-Tag:noindex
X-PUBLISHED-TTL:PT1H
BEGIN:VTIMEZONE
TZID:America/New_York
BEGIN:DAYLIGHT
TZOFFSETFROM:-0500
TZOFFSETTO:-0400
TZNAME:EDT
DTSTART:20240310T070000
END:DAYLIGHT
BEGIN:STANDARD
TZOFFSETFROM:-0400
TZOFFSETTO:-0500
TZNAME:EST
DTSTART:20241103T060000
END:STANDARD
BEGIN:DAYLIGHT
TZOFFSETFROM:-0500
TZOFFSETTO:-0400
TZNAME:EDT
DTSTART:20250309T070000
END:DAYLIGHT
BEGIN:STANDARD
TZOFFSETFROM:-0400
TZOFFSETTO:-0500
TZNAME:EST
DTSTART:20251102T060000
END:STANDARD
BEGIN:DAYLIGHT
TZOFFSETFROM:-0500
TZOFFSETTO:-0400
TZNAME:EDT
DTSTART:20260308T070000
END:DAYLIGHT
BEGIN:STANDARD
TZOFFSETFROM:-0400
TZOFFSETTO:-0500
TZNAME:EST
DTSTART:20261101T060000
END:STANDARD
END:VTIMEZONE
BEGIN:VEVENT
DTSTART;TZID=America/New_York:20250816T180000
DTEND;TZID=America/New_York:20250816T210000
DTSTAMP:20260423T064459
CREATED:20250709T141814Z
LAST-MODIFIED:20250709T145037Z
UID:2128-1755367200-1755378000@ubhealthyproject.org
SUMMARY:Live In The Garden: SNMG
DESCRIPTION:NEW YORK CITY A @forwardthinking_ns has linked up to present Live At The Garden\, an all-ages live music and urban garden experience celebrating Harlem Week and the independent music scene.\nJoin us on Saturday\, August 16\, from 6 – 9PM\nIn Harlem at @stnicksgarden for a performance lineup including\n@wheresdaloren\, @whxsday\, @jercshore\, @arkadiuszthelover\, @preciousjewlism\, @Joeybricks_\, with\n@danielrossworldwide returning as host.\nWe’ll have a grill service\, special guests\, and much more. \nRSVP at the link in bio to attend\nSaturday\, August 16th\, from 6 – 9 PM\n330 St. Nicholas Ave\nNew York\, NY 10027
URL:https://ubhealthyproject.org/event/live-in-the-garden/
LOCATION:St Nicholas Miracle Garden\, 330 St Nicholas Ave\, New York\, 10027\, United States
CATEGORIES:Community Garden
ATTACH;FMTTYPE=image/jpeg:https://ubhealthyproject.org/wp-content/uploads/2025/07/FTL-August-16-25-V2.jpeg
ORGANIZER;CN="Uptown Boogie Healthy Project":MAILTO:ugf@ubhealthyproject.org
END:VEVENT
END:VCALENDAR