BEGIN:VCALENDAR
VERSION:2.0
PRODID:-//Uptown &amp; Boogie Healthy Project Inc. - ECPv6.15.20//NONSGML v1.0//EN
CALSCALE:GREGORIAN
METHOD:PUBLISH
X-ORIGINAL-URL:https://ubhealthyproject.org
X-WR-CALDESC:Events for Uptown &amp; Boogie Healthy Project Inc.
REFRESH-INTERVAL;VALUE=DURATION:PT1H
X-Robots-Tag:noindex
X-PUBLISHED-TTL:PT1H
BEGIN:VTIMEZONE
TZID:America/New_York
BEGIN:DAYLIGHT
TZOFFSETFROM:-0500
TZOFFSETTO:-0400
TZNAME:EDT
DTSTART:20240310T070000
END:DAYLIGHT
BEGIN:STANDARD
TZOFFSETFROM:-0400
TZOFFSETTO:-0500
TZNAME:EST
DTSTART:20241103T060000
END:STANDARD
BEGIN:DAYLIGHT
TZOFFSETFROM:-0500
TZOFFSETTO:-0400
TZNAME:EDT
DTSTART:20250309T070000
END:DAYLIGHT
BEGIN:STANDARD
TZOFFSETFROM:-0400
TZOFFSETTO:-0500
TZNAME:EST
DTSTART:20251102T060000
END:STANDARD
BEGIN:DAYLIGHT
TZOFFSETFROM:-0500
TZOFFSETTO:-0400
TZNAME:EDT
DTSTART:20260308T070000
END:DAYLIGHT
BEGIN:STANDARD
TZOFFSETFROM:-0400
TZOFFSETTO:-0500
TZNAME:EST
DTSTART:20261101T060000
END:STANDARD
END:VTIMEZONE
BEGIN:VEVENT
DTSTART;TZID=America/New_York:20250614T140000
DTEND;TZID=America/New_York:20250614T200000
DTSTAMP:20260423T093145
CREATED:20250526T182316Z
LAST-MODIFIED:20250526T182316Z
UID:2110-1749909600-1749931200@ubhealthyproject.org
SUMMARY:Open Garden Day: Agri-Tech\, Music & Greenhouse Magic
DESCRIPTION:Our special event will unveil our latest beautification projects\, including a greenhouse and mural.\nHighlights Include:\n🎤 Architect Talk – Hear directly from the talented architects and student designers behind our year-round greenhouse. Learn about their design inspiration\, sustainable building practices\, and how they brought this vision to life alongside volunteers and local tradespeople. \n🎶 Live Music—Enjoy soulful live performances by local musicians throughout the day\, which bring rhythm and joy to our blooming space. \n🌻 Garden Tours & Family Activities—Explore the garden\, meet the team\, and participate in kid-friendly arts and crafts\, composting demos\, and seed planting. \n🍓 Farmers Market—Shop fresh produce and support local artisans at our seasonal Uptown Good Food Farmers Market on St Nicholas Ave and W137th Street from 9 am to 3 pm.\nCelebrate community\, creativity\, and the power of green spaces. All ages welcome—bring your family\, friends\, and love to the garden!\nLocation: St Nicholas Miracle Garden\nTime: 2 pm to 8 pm\nEntry: Free and open to the public\nFollow us on @stnicksgarden for updates. We can’t wait to grow with you! 🌱
URL:https://ubhealthyproject.org/event/open-garden-day-agri-tech-music-greenhouse-magic/
LOCATION:St Nicholas Miracle Garden\, 330 St Nicholas Ave\, New York\, 10027\, United States
CATEGORIES:Community Garden
ATTACH;FMTTYPE=image/png:https://ubhealthyproject.org/wp-content/uploads/2025/05/greenhouseraisedbed.png
END:VEVENT
END:VCALENDAR